BEGIN:VCALENDAR
VERSION:2.0
PRODID:-//Urban compassion project - ECPv6.15.20//NONSGML v1.0//EN
CALSCALE:GREGORIAN
METHOD:PUBLISH
X-WR-CALNAME:Urban compassion project
X-ORIGINAL-URL:https://urbancompassionproject.org
X-WR-CALDESC:Events for Urban compassion project
REFRESH-INTERVAL;VALUE=DURATION:PT1H
X-Robots-Tag:noindex
X-PUBLISHED-TTL:PT1H
BEGIN:VTIMEZONE
TZID:America/Los_Angeles
BEGIN:DAYLIGHT
TZOFFSETFROM:-0800
TZOFFSETTO:-0700
TZNAME:PDT
DTSTART:20250309T100000
END:DAYLIGHT
BEGIN:STANDARD
TZOFFSETFROM:-0700
TZOFFSETTO:-0800
TZNAME:PST
DTSTART:20251102T090000
END:STANDARD
BEGIN:DAYLIGHT
TZOFFSETFROM:-0800
TZOFFSETTO:-0700
TZNAME:PDT
DTSTART:20260308T100000
END:DAYLIGHT
BEGIN:STANDARD
TZOFFSETFROM:-0700
TZOFFSETTO:-0800
TZNAME:PST
DTSTART:20261101T090000
END:STANDARD
BEGIN:DAYLIGHT
TZOFFSETFROM:-0800
TZOFFSETTO:-0700
TZNAME:PDT
DTSTART:20270314T100000
END:DAYLIGHT
BEGIN:STANDARD
TZOFFSETFROM:-0700
TZOFFSETTO:-0800
TZNAME:PST
DTSTART:20271107T090000
END:STANDARD
END:VTIMEZONE
BEGIN:VEVENT
DTSTART;TZID=America/Los_Angeles:20260228T090000
DTEND;TZID=America/Los_Angeles:20260228T120000
DTSTAMP:20260423T023644
CREATED:20260217T145240Z
LAST-MODIFIED:20260228T012323Z
UID:18931-1772269200-1772280000@urbancompassionproject.org
SUMMARY:Saturday Cleanup [2/28]
DESCRIPTION:📍Location: 3440 Wood Street \n🌴We’ll be in West Oakland on February 28th from 9a-12p! Come on out and have a fun day getting dirty with us\, making friends\, and cleaning our streets. \n🌻We approach this with compassion and kindness\, and build bridges between volunteers and our unhoused community. All are welcome (ages 16+). All personal protective equipment and cleaning supplies are provided. Please wear long pants and sturdy\, closed-toe shoes. We’re out rain or shine so be sure to wear weather appropriate clothing! \n💰Donations are always welcome! \n📝Please RSVP each time you plan to attend. Thank you for your support! \n📨Questions: lee.h@urbancompassionproject.org \n\n	Notice: JavaScript is required for this content.\n\n\n    \n\n\n        \n        \n        \n 
URL:https://urbancompassionproject.org/event/saturday-cleanup-2-28/
LOCATION:3440 Wood\, 3440 Wood St\, Oakland\, CA\, 94608\, United States
CATEGORIES:Community Cleanups
ORGANIZER;CN="Urban Compassion Project":MAILTO:lee.h@urbancompassionproject.org
END:VEVENT
END:VCALENDAR