BEGIN:VCALENDAR
VERSION:2.0
PRODID:-//Urban compassion project - ECPv6.15.20//NONSGML v1.0//EN
CALSCALE:GREGORIAN
METHOD:PUBLISH
X-WR-CALNAME:Urban compassion project
X-ORIGINAL-URL:https://urbancompassionproject.org
X-WR-CALDESC:Events for Urban compassion project
REFRESH-INTERVAL;VALUE=DURATION:PT1H
X-Robots-Tag:noindex
X-PUBLISHED-TTL:PT1H
BEGIN:VTIMEZONE
TZID:America/Los_Angeles
BEGIN:DAYLIGHT
TZOFFSETFROM:-0800
TZOFFSETTO:-0700
TZNAME:PDT
DTSTART:20250309T100000
END:DAYLIGHT
BEGIN:STANDARD
TZOFFSETFROM:-0700
TZOFFSETTO:-0800
TZNAME:PST
DTSTART:20251102T090000
END:STANDARD
BEGIN:DAYLIGHT
TZOFFSETFROM:-0800
TZOFFSETTO:-0700
TZNAME:PDT
DTSTART:20260308T100000
END:DAYLIGHT
BEGIN:STANDARD
TZOFFSETFROM:-0700
TZOFFSETTO:-0800
TZNAME:PST
DTSTART:20261101T090000
END:STANDARD
BEGIN:DAYLIGHT
TZOFFSETFROM:-0800
TZOFFSETTO:-0700
TZNAME:PDT
DTSTART:20270314T100000
END:DAYLIGHT
BEGIN:STANDARD
TZOFFSETFROM:-0700
TZOFFSETTO:-0800
TZNAME:PST
DTSTART:20271107T090000
END:STANDARD
END:VTIMEZONE
BEGIN:VEVENT
DTSTART;TZID=America/Los_Angeles:20260110T090000
DTEND;TZID=America/Los_Angeles:20260110T120000
DTSTAMP:20260423T031308
CREATED:20251219T013959Z
LAST-MODIFIED:20260107T204010Z
UID:18264-1768035600-1768046400@urbancompassionproject.org
SUMMARY:Saturday Cleanup [1/10]
DESCRIPTION:📍Location: E 12th & 23rd \n🌴We’ll be in East Oakland on January 10th from 9a-12p for our first cleanup of 2026! Come on out and have a fun day getting dirty with us\, making friends\, and cleaning our streets. \n🌻We approach this with compassion and kindness\, and build bridges between volunteers and our unhoused community. All are welcome (ages 16+). All personal protective equipment and cleaning supplies are provided. Please wear long pants and sturdy\, closed-toe shoes. We’re out rain or shine so be sure to wear weather appropriate clothing! \n💰Donations are always welcome! \n📝Please RSVP each time you plan to attend. Thank you for your support! \n📨Questions: lee.h@urbancompassionproject.org \n\n	Notice: JavaScript is required for this content.
URL:https://urbancompassionproject.org/event/1-10-26-cleanup/
LOCATION:12th & 23rd\, 2301 E 12th St\, Oakland\, 94601\, United States
CATEGORIES:Community Cleanups
ORGANIZER;CN="Urban Compassion Project":MAILTO:lee.h@urbancompassionproject.org
END:VEVENT
BEGIN:VEVENT
DTSTART;TZID=America/Los_Angeles:20260114T120000
DTEND;TZID=America/Los_Angeles:20260114T150000
DTSTAMP:20260423T031308
CREATED:20251231T194240Z
LAST-MODIFIED:20260112T223533Z
UID:18333-1768392000-1768402800@urbancompassionproject.org
SUMMARY:Wednesday Cleanup [1/14]
DESCRIPTION:📍Location: 5th & Kirkham \n🌴We’ll be in West Oakland on January 14th from 12-3p for our first Wednesday cleanup of 2026! Come on out and have a fun day getting dirty with us\, making friends\, and cleaning our streets. \n🌻We approach this with compassion and kindness\, and build bridges between volunteers and our unhoused community. All are welcome (ages 16+). All personal protective equipment and cleaning supplies are provided. Please wear long pants and sturdy\, closed-toe shoes. We’re out rain or shine so be sure to wear weather appropriate clothing! \n💰Donations are always welcome! \n📝Please RSVP each time you plan to attend. Thank you for your support! \n📨Questions: lee.h@urbancompassionproject.org \n\n	Notice: JavaScript is required for this content.
URL:https://urbancompassionproject.org/event/1-14-26-cleanup/
LOCATION:5th St & Kirkham St\, 500 Kirkham St\, Oakland\, CA\, 94615\, United States
CATEGORIES:Community Cleanups
ORGANIZER;CN="Urban Compassion Project":MAILTO:lee.h@urbancompassionproject.org
END:VEVENT
BEGIN:VEVENT
DTSTART;TZID=America/Los_Angeles:20260117T090000
DTEND;TZID=America/Los_Angeles:20260117T120000
DTSTAMP:20260423T031308
CREATED:20251231T194504Z
LAST-MODIFIED:20260112T215311Z
UID:18336-1768640400-1768651200@urbancompassionproject.org
SUMMARY:Saturday Cleanup [1/17]
DESCRIPTION:📍Location: 23 4th St \n🌴We’ll be in Oakland on January 17th from 9a-12p! Come on out and have a fun day getting dirty with us\, making friends\, and cleaning our streets. \n🌻We approach this with compassion and kindness\, and build bridges between volunteers and our unhoused community. All are welcome (ages 16+). All personal protective equipment and cleaning supplies are provided. Please wear long pants and sturdy\, closed-toe shoes. We’re out rain or shine so be sure to wear weather appropriate clothing! \n💰Donations are always welcome! \n📝Please RSVP each time you plan to attend. Thank you for your support! \n📨Questions: lee.h@urbancompassionproject.org \n\n	Notice: JavaScript is required for this content.
URL:https://urbancompassionproject.org/event/1-17-26-cleanup/
LOCATION:29-1 4th St.\, 29-1 4th St\, Oakland\, CA\, 94607\, United States
CATEGORIES:Community Cleanups
ORGANIZER;CN="Urban Compassion Project":MAILTO:lee.h@urbancompassionproject.org
END:VEVENT
BEGIN:VEVENT
DTSTART;TZID=America/Los_Angeles:20260124T090000
DTEND;TZID=America/Los_Angeles:20260124T120000
DTSTAMP:20260423T031308
CREATED:20251231T194726Z
LAST-MODIFIED:20260122T221424Z
UID:18340-1769245200-1769256000@urbancompassionproject.org
SUMMARY:Saturday Cleanup [1/24]
DESCRIPTION:📍Location: 23 4th St: The cleanup will be under 880\, but please park outside the RV encampment and walk over \n🌴We’ll be in Oakland on January 24th from 9a-12p! Come on out and have a fun day getting dirty with us\, making friends\, and cleaning our streets. \n🌻We approach this with compassion and kindness\, and build bridges between volunteers and our unhoused community. All are welcome (ages 16+). All personal protective equipment and cleaning supplies are provided. Please wear long pants and sturdy\, closed-toe shoes. We’re out rain or shine so be sure to wear weather appropriate clothing! \n💰Donations are always welcome! \n📝Please RSVP each time you plan to attend. Thank you for your support! \n📨Questions: lee.h@urbancompassionproject.org \n\n	Notice: JavaScript is required for this content.
URL:https://urbancompassionproject.org/event/1-24-26-cleanup/
LOCATION:29-1 4th St.\, 29-1 4th St\, Oakland\, CA\, 94607\, United States
CATEGORIES:Community Cleanups
ORGANIZER;CN="Urban Compassion Project":MAILTO:lee.h@urbancompassionproject.org
END:VEVENT
BEGIN:VEVENT
DTSTART;TZID=America/Los_Angeles:20260131T090000
DTEND;TZID=America/Los_Angeles:20260131T120000
DTSTAMP:20260423T031308
CREATED:20260121T010917Z
LAST-MODIFIED:20260130T052215Z
UID:18590-1769850000-1769860800@urbancompassionproject.org
SUMMARY:Saturday Cleanup [1/31]
DESCRIPTION:📍Location: 23 4th St: The cleanup will be under 880\, but please park outside the RV encampment and walk over \n🌴We’ll be in Oakland on January 31st from 9a-12p! Come on out and have a fun day getting dirty with us\, making friends\, and cleaning our streets. \n🌻We approach this with compassion and kindness\, and build bridges between volunteers and our unhoused community. All are welcome (ages 16+). All personal protective equipment and cleaning supplies are provided. Please wear long pants and sturdy\, closed-toe shoes. We’re out rain or shine so be sure to wear weather appropriate clothing! \n💰Donations are always welcome! \n📝Please RSVP each time you plan to attend. Thank you for your support! \n📨Questions: lee.h@urbancompassionproject.org \n\n	Notice: JavaScript is required for this content.
URL:https://urbancompassionproject.org/event/1-31-26-cleanup/
LOCATION:29-1 4th St.\, 29-1 4th St\, Oakland\, CA\, 94607\, United States
CATEGORIES:Community Cleanups
ORGANIZER;CN="Urban Compassion Project":MAILTO:lee.h@urbancompassionproject.org
END:VEVENT
END:VCALENDAR