BEGIN:VCALENDAR
VERSION:2.0
PRODID:-//Urban compassion project - ECPv6.15.20//NONSGML v1.0//EN
CALSCALE:GREGORIAN
METHOD:PUBLISH
X-WR-CALNAME:Urban compassion project
X-ORIGINAL-URL:https://urbancompassionproject.org
X-WR-CALDESC:Events for Urban compassion project
REFRESH-INTERVAL;VALUE=DURATION:PT1H
X-Robots-Tag:noindex
X-PUBLISHED-TTL:PT1H
BEGIN:VTIMEZONE
TZID:America/Los_Angeles
BEGIN:DAYLIGHT
TZOFFSETFROM:-0800
TZOFFSETTO:-0700
TZNAME:PDT
DTSTART:20240310T100000
END:DAYLIGHT
BEGIN:STANDARD
TZOFFSETFROM:-0700
TZOFFSETTO:-0800
TZNAME:PST
DTSTART:20241103T090000
END:STANDARD
BEGIN:DAYLIGHT
TZOFFSETFROM:-0800
TZOFFSETTO:-0700
TZNAME:PDT
DTSTART:20250309T100000
END:DAYLIGHT
BEGIN:STANDARD
TZOFFSETFROM:-0700
TZOFFSETTO:-0800
TZNAME:PST
DTSTART:20251102T090000
END:STANDARD
BEGIN:DAYLIGHT
TZOFFSETFROM:-0800
TZOFFSETTO:-0700
TZNAME:PDT
DTSTART:20260308T100000
END:DAYLIGHT
BEGIN:STANDARD
TZOFFSETFROM:-0700
TZOFFSETTO:-0800
TZNAME:PST
DTSTART:20261101T090000
END:STANDARD
END:VTIMEZONE
BEGIN:VEVENT
DTSTART;TZID=America/Los_Angeles:20250517T090000
DTEND;TZID=America/Los_Angeles:20250517T120000
DTSTAMP:20260423T152518
CREATED:20250511T164518Z
LAST-MODIFIED:20250517T042455Z
UID:14579-1747472400-1747483200@urbancompassionproject.org
SUMMARY:E 8th Encampment Cleanup!
DESCRIPTION:🚨 Updated Location🚨 \nThe site we had designated on E 12th has been cleared so we are going to focus our energy on another nearby area in need. We will meet at the location below at 9am\, on 8th St near 12th Avenue. Looking forward to seeing you all there! 🙂 \n📍This week’s location: 1300 E 8th St. \n🌴Residents are looking forward to our presence this Saturday so come on out to support them and make Oakland a better place for us all. It’s a fun way to spend a Saturday morning\, making friends and cleaning our streets. \n👩‍🌾If you have heavy duty rakes or scoop shovels that you no longer need\, we could always use a few more! \n🌻We approach this with compassion and kindness\, and build bridges between volunteers and our unhoused community. All are welcome (ages 16+). Please wear long pants and sturdy\, closed-toe shoes. All personal protective equipment and cleaning supplies are provided. \n💰Donations are always welcome! \n📝Please RSVP each time you plan to attend. Thank you for your support! \n📨Questions: lee.h@urbancompassionproject.org \n 
URL:https://urbancompassionproject.org/event/5-17-25-cleanup/
LOCATION:8th St\, 1300 E 8th Street\, Oakland\, CA\, 94606\, United States
CATEGORIES:Community Cleanups,Community Event
ORGANIZER;CN="Urban Compassion Project":MAILTO:lee.h@urbancompassionproject.org
END:VEVENT
BEGIN:VEVENT
DTSTART;TZID=America/Los_Angeles:20250521T110000
DTEND;TZID=America/Los_Angeles:20250521T140000
DTSTAMP:20260423T152518
CREATED:20250515T224841Z
LAST-MODIFIED:20250515T225736Z
UID:14682-1747825200-1747836000@urbancompassionproject.org
SUMMARY:Weekday Cleanup at Lower Bottoms Park
DESCRIPTION:📍This week’s location: Lower Bottoms Park\, meet at 1448 3rd St \n🗑️Two weeks ago we cleaned up 10\,000lbs of trash from inside the park and we’re going back to finish the job! We plan to get the rest of the trash out and then do beautification on the park and leave it in really nice condition. There is an encampment there whose residents are looking forward to our presence. Let’s make the park nicer for them and the neighborhood! Come on out to make Oakland a better place for us all. It’s a fun way to spend a Wednesday morning\, making friends and cleaning our streets. \n🌻We approach this with compassion and kindness\, and build bridges between volunteers and our unhoused community. All are welcome (ages 16+). Please wear long pants and sturdy\, closed-toe shoes. All personal protective equipment and cleaning supplies are provided. \n💰Donations are always welcome! \n📝Please RSVP each time you plan to attend. Thank you for your support! \n📨Questions: lee.h@urbancompassionproject.org
URL:https://urbancompassionproject.org/event/5-21-25-cleanup/
LOCATION:Lower Bottoms Park\, 1448 3rd St\, Oakland\, CA\, 94607\, United States
CATEGORIES:Community Cleanups,Community Event
ORGANIZER;CN="Urban Compassion Project":MAILTO:lee.h@urbancompassionproject.org
END:VEVENT
BEGIN:VEVENT
DTSTART;TZID=America/Los_Angeles:20250526T090000
DTEND;TZID=America/Los_Angeles:20250526T120000
DTSTAMP:20260423T152518
CREATED:20250517T222454Z
LAST-MODIFIED:20250525T161414Z
UID:14729-1748250000-1748260800@urbancompassionproject.org
SUMMARY:Memorial Monday Cleanup!
DESCRIPTION:📍This week’s location: 5th St & Kirkham St \n🌴There is no immediate parking\, but West Oakland Station is nearby and has a large lot. Residents living in this encampment are dealing with a lot of garbage and we’re going to clear it. Come on out and have a fun morning with us\, making friends and cleaning our streets. \n👩‍🌾If you have heavy duty rakes or scoop shovels that you no longer need\, we could always use a few more! \n🌻We approach this with compassion and kindness\, and build bridges between volunteers and our unhoused community. All are welcome (ages 16+). Please wear long pants and sturdy\, closed-toe shoes. All personal protective equipment and cleaning supplies are provided. \n💰Donations are always welcome! \n📝Please RSVP each time you plan to attend. Thank you for your support! \n📨Questions: lee.h@urbancompassionproject.org
URL:https://urbancompassionproject.org/event/5-26-25-cleanup/
LOCATION:5th St & Kirkham St\, 500 Kirkham St\, Oakland\, CA\, 94615\, United States
CATEGORIES:Community Cleanups,Community Event
ORGANIZER;CN="Urban Compassion Project":MAILTO:lee.h@urbancompassionproject.org
END:VEVENT
BEGIN:VEVENT
DTSTART;TZID=America/Los_Angeles:20250529T133000
DTEND;TZID=America/Los_Angeles:20250529T163000
DTSTAMP:20260423T152518
CREATED:20250527T005124Z
LAST-MODIFIED:20250527T005842Z
UID:14850-1748525400-1748536200@urbancompassionproject.org
SUMMARY:Kirkham Street - Part 2!
DESCRIPTION:📍Thursday location: 5th St & Kirkham St \n🌴We will be back on Kirkham to finish the job! There is no immediate parking\, but West Oakland Station is nearby and has a large lot ($13.50). There is also street parking in the area if you don’t mind a walk. \n💖Residents living in this encampment are dealing with a lot of garbage and we’re going to finish clearing it all! Come on out and have a fun afternoon with us\, making friends and cleaning our streets. \n👩‍🌾If you have heavy duty rakes or scoop shovels that you no longer need\, we could always use a few more! \n🌻We approach this with compassion and kindness\, and build bridges between volunteers and our unhoused community. All are welcome (ages 16+). Please wear long pants and sturdy\, closed-toe shoes. All personal protective equipment and cleaning supplies are provided. \n💰Donations are always welcome! \n📝Please RSVP each time you plan to attend. Thank you for your support! \n📨Questions: lee.h@urbancompassionproject.org
URL:https://urbancompassionproject.org/event/5-29-25-cleanup/
LOCATION:5th St & Kirkham St\, 500 Kirkham St\, Oakland\, CA\, 94615\, United States
CATEGORIES:Community Cleanups,Community Event
ORGANIZER;CN="Urban Compassion Project":MAILTO:lee.h@urbancompassionproject.org
END:VEVENT
BEGIN:VEVENT
DTSTART;TZID=America/Los_Angeles:20250531T090000
DTEND;TZID=America/Los_Angeles:20250531T120000
DTSTAMP:20260423T152518
CREATED:20250523T220935Z
LAST-MODIFIED:20250530T220716Z
UID:14810-1748682000-1748692800@urbancompassionproject.org
SUMMARY:E 12th Cleanup #7!
DESCRIPTION:📍This week’s location: E 12th St. & 42nd Ave. \n🌴This will be cleanup number 7 on East 12th street! Come on out for a fun Saturday morning\, making friends\, cleaning our streets\, and making Oakland a better place for us all. \n🌻We approach this with compassion and kindness\, and build bridges between volunteers and our unhoused community. All are welcome (ages 16+). Please wear long pants and sturdy\, closed-toe shoes. All personal protective equipment and cleaning supplies are provided. \n👩‍🌾If you have heavy duty rakes or scoop shovels that you no longer need\, we could always use a few more! \n💰Donations are always welcome\, support the #east12thmovement! \n📝Please RSVP each time you plan to attend. Thank you for your support! \n📨Questions: lee.h@urbancompassionproject.org
URL:https://urbancompassionproject.org/event/5-31-25-cleanup/
LOCATION:E 12th St & 42nd Ave\, 1212 42nd Ave\, Oakland\, CA\, 94601\, United States
CATEGORIES:Community Cleanups,Community Event
ORGANIZER;CN="Urban Compassion Project":MAILTO:lee.h@urbancompassionproject.org
END:VEVENT
BEGIN:VEVENT
DTSTART;TZID=America/Los_Angeles:20250604T120000
DTEND;TZID=America/Los_Angeles:20250604T150000
DTSTAMP:20260423T152518
CREATED:20250601T003916Z
LAST-MODIFIED:20250603T161014Z
UID:14945-1749038400-1749049200@urbancompassionproject.org
SUMMARY:Downtown Oakland Cleanup!
DESCRIPTION:📍Location: San Pablo Ave. & W Grand Ave.\, pin is here: https://maps.app.goo.gl/twH6ZM9FrpzLzBLn9 \n🌴We will be at a new location in downtown Oakland this Wednesday from 12-3p! We’ve been on a roll lately\, let’s keep the momentum going! Come on out and have a fun afternoon with us\, making friends and cleaning our streets. \n🌻We approach this with compassion and kindness\, and build bridges between volunteers and our unhoused community. All are welcome (ages 16+). Please wear long pants and sturdy\, closed-toe shoes. All personal protective equipment and cleaning supplies are provided. \n💰Donations are always welcome! \n📝Please RSVP each time you plan to attend. Thank you for your support! \n📨Questions: lee.h@urbancompassionproject.org
URL:https://urbancompassionproject.org/event/6-4-25-cleanup/
LOCATION:W Grand & San Pablo\, W Grand Ave & San Pablo Ave\, Oakland\, CA\, 94612\, United States
CATEGORIES:Community Cleanups,Community Event
ORGANIZER;CN="Urban Compassion Project":MAILTO:lee.h@urbancompassionproject.org
END:VEVENT
BEGIN:VEVENT
DTSTART;TZID=America/Los_Angeles:20250607T090000
DTEND;TZID=America/Los_Angeles:20250607T120000
DTSTAMP:20260423T152518
CREATED:20250601T004518Z
LAST-MODIFIED:20250606T201143Z
UID:14952-1749286800-1749297600@urbancompassionproject.org
SUMMARY:E 12th Cleanup #8!
DESCRIPTION:📍Location: 4218 E 12th St. (between 42nd Ave & High St) \n🌴We will be back on E 12th St. this Saturday from 9a-12p! We’ve been on a roll lately\, let’s keep the momentum going! Come on out and have a fun afternoon with us\, making friends and cleaning our streets. \n🌻We approach this with compassion and kindness\, and build bridges between volunteers and our unhoused community. All are welcome (ages 16+). Please wear long pants and sturdy\, closed-toe shoes. All personal protective equipment and cleaning supplies are provided. \n💰Donations are always welcome\, support the #east12thmovement! \n📝Please RSVP each time you plan to attend. Thank you for your support! \n📨Questions: lee.h@urbancompassionproject.org
URL:https://urbancompassionproject.org/event/6-7-25-cleanup/
LOCATION:12th & 42nd/High\, 4218 E 12th St.\, Oakland\, CA\, 94601\, United States
CATEGORIES:Community Cleanups,Community Event
ORGANIZER;CN="Urban Compassion Project":MAILTO:lee.h@urbancompassionproject.org
END:VEVENT
BEGIN:VEVENT
DTSTART;TZID=America/Los_Angeles:20250611T120000
DTEND;TZID=America/Los_Angeles:20250611T150000
DTSTAMP:20260423T152518
CREATED:20250608T165014Z
LAST-MODIFIED:20250610T221741Z
UID:15097-1749643200-1749654000@urbancompassionproject.org
SUMMARY:Wednesday Cleanup: Jack London
DESCRIPTION:📍Location: Chestnut St. & 5th St. (the skinny street parallel to 5th) See pin (https://maps.app.goo.gl/pRiRhxQZhng6nPXV8) or map below: \n \n🌴We will be at a new location in Jack London this Wednesday from 12-3p! We’ve been on a roll lately\, let’s keep the momentum going! Come on out and have a fun afternoon with us\, making friends and cleaning our streets. \n🌻We approach this with compassion and kindness\, and build bridges between volunteers and our unhoused community. All are welcome (ages 16+). Please wear long pants and sturdy\, closed-toe shoes. All personal protective equipment and cleaning supplies are provided. \n💰Donations are always welcome! \n📝Please RSVP each time you plan to attend. Thank you for your support! \n📨Questions: lee.h@urbancompassionproject.org
URL:https://urbancompassionproject.org/event/6-11-25-cleanup/
LOCATION:CA
CATEGORIES:Community Cleanups,Community Event
ORGANIZER;CN="Urban Compassion Project":MAILTO:lee.h@urbancompassionproject.org
END:VEVENT
BEGIN:VEVENT
DTSTART;TZID=America/Los_Angeles:20250614T090000
DTEND;TZID=America/Los_Angeles:20250614T120000
DTSTAMP:20260423T152518
CREATED:20250608T165648Z
LAST-MODIFIED:20250613T202431Z
UID:15103-1749891600-1749902400@urbancompassionproject.org
SUMMARY:E 12th Cleanup #9!
DESCRIPTION:📍Location: E 12th St. & 46th Ave. https://maps.app.goo.gl/Qpkwg744gBEaYYfx9 \n🌴We will be back on E 12th St. this Saturday from 9a-12p! We’ve been on a roll lately\, let’s keep the momentum going! Come on out and have a fun afternoon with us\, making friends and cleaning our streets. \n🌻We approach this with compassion and kindness\, and build bridges between volunteers and our unhoused community. All are welcome (ages 16+). Please wear long pants and sturdy\, closed-toe shoes. All personal protective equipment and cleaning supplies are provided. \n💰Donations are always welcome\, support the #east12thmovement! \n📝Please RSVP each time you plan to attend. Thank you for your support! \n📨Questions: lee.h@urbancompassionproject.org
URL:https://urbancompassionproject.org/event/6-14-25-cleanup/
LOCATION:12th & 46th\, 1201 46th Ave\, Oakland\, CA\, 94601\, United States
CATEGORIES:Community Cleanups,Community Event
ORGANIZER;CN="Urban Compassion Project":MAILTO:lee.h@urbancompassionproject.org
END:VEVENT
BEGIN:VEVENT
DTSTART;TZID=America/Los_Angeles:20250806T120000
DTEND;TZID=America/Los_Angeles:20250806T150000
DTSTAMP:20260423T152518
CREATED:20250730T231903Z
LAST-MODIFIED:20250801T001246Z
UID:16034-1754481600-1754492400@urbancompassionproject.org
SUMMARY:Wednesday Cleanup
DESCRIPTION:📍Location: Kirkham St. & 5th St. \n🌴We will be in West Oakland on Wednesday from 12-3p! We had an amazing cleanup on Wednesday\, clearing 7 tons from Kirkham St. There are a few tons left so we are heading back to finish the job. Come on out and have a fun afternoon with us\, making friends and cleaning our streets. \n🌻We approach this with compassion and kindness\, and build bridges between volunteers and our unhoused community. All are welcome (ages 16+). Please wear long pants and sturdy\, closed-toe shoes. All personal protective equipment and cleaning supplies are provided. \n💰Donations are always welcome! \n📝Please RSVP each time you plan to attend. Thank you for your support! \n📨Questions: lee.h@urbancompassionproject.org
URL:https://urbancompassionproject.org/event/8-6-25-cleanup/
LOCATION:5th St & Kirkham St\, 500 Kirkham St\, Oakland\, CA\, 94615\, United States
CATEGORIES:Community Cleanups,Community Event
ORGANIZER;CN="Urban Compassion Project":MAILTO:lee.h@urbancompassionproject.org
END:VEVENT
BEGIN:VEVENT
DTSTART;TZID=America/Los_Angeles:20250809T090000
DTEND;TZID=America/Los_Angeles:20250809T120000
DTSTAMP:20260423T152518
CREATED:20250730T232239Z
LAST-MODIFIED:20250807T212955Z
UID:16039-1754730000-1754740800@urbancompassionproject.org
SUMMARY:Saturday Cleanup @Wood St. #3!
DESCRIPTION:📍Location: Just north of 3440 Wood St https://maps.app.goo.gl/qJpg2R2yRXDGoYeo8 \n🌴We will be back at the Wood St encampment from 9a-12p! We’re made a huge amount of progress on the 19th (25 tons!!) and are going to finish the job. Come on out and have a fun day geting dirty with us\, making friends and cleaning our streets. \n🌻We approach this with compassion and kindness\, and build bridges between volunteers and our unhoused community. All are welcome (ages 16+). Please wear long pants and sturdy\, closed-toe shoes. All personal protective equipment and cleaning supplies are provided. \n💰Donations are always welcome! \n📝Please RSVP each time you plan to attend. Thank you for your support! \n📨Questions: lee.h@urbancompassionproject.org
URL:https://urbancompassionproject.org/event/8-9-25-cleanup/
LOCATION:34th & Wood\, 3401 Wood St\, Oakland\, CA\, 94608\, United States
CATEGORIES:Community Cleanups,Community Event
ORGANIZER;CN="Urban Compassion Project":MAILTO:lee.h@urbancompassionproject.org
END:VEVENT
BEGIN:VEVENT
DTSTART;TZID=America/Los_Angeles:20250827T123000
DTEND;TZID=America/Los_Angeles:20250827T150000
DTSTAMP:20260423T152518
CREATED:20250817T145819Z
LAST-MODIFIED:20250825T230745Z
UID:16391-1756297800-1756306800@urbancompassionproject.org
SUMMARY:UCP x u/pengweather! [8/27]
DESCRIPTION:📍Location: 5503 Foothill Blvd \n🌴We’re doing a collab cleanup event in East Oakland from 1230-3p in with u/pengweather! Come on out and have a fun day getting dirty with us\, making friends\, and cleaning our streets. \n🌻We approach this with compassion and kindness\, and build bridges between volunteers and our unhoused community. All are welcome (ages 16+). Please wear long pants and sturdy\, closed-toe shoes. All personal protective equipment and cleaning supplies are provided. \n💰Donations are always welcome! \n📝Please RSVP each time you plan to attend. Thank you for your support! \n📨Questions: lee.h@urbancompassionproject.org \n\n	Notice: JavaScript is required for this content.
URL:https://urbancompassionproject.org/event/8-27-25-cleanup/
LOCATION:5503 Foothill Blvd\, 5503 Foothill Blvd\, Oakland\, 94605\, United States
CATEGORIES:Community Cleanups,Community Event
ORGANIZER;CN="Urban Compassion Project":MAILTO:lee.h@urbancompassionproject.org
END:VEVENT
BEGIN:VEVENT
DTSTART;TZID=America/Los_Angeles:20250831T100000
DTEND;TZID=America/Los_Angeles:20250831T130000
DTSTAMP:20260423T152518
CREATED:20250803T235801Z
LAST-MODIFIED:20250826T223955Z
UID:16089-1756634400-1756645200@urbancompassionproject.org
SUMMARY:UCP x Hiero Day
DESCRIPTION:🥳 We are excited to announce a collaborative cleanup with Hiero Day alongside CityEats & Taqueria Azteca! This event will have music\, food\, coffee\, cool people\, and culminate in clean streets! \n📍Location: 24th & Wood St. \n🎵 Hiero \n🎛️ DJ Gunjan \n☕ TheCityEats \n🌯 Taqueria Azteca \n🌻 We approach our cleanups with compassion and kindness\, and build bridges between volunteers and our unhoused community. All are welcome (ages 16+). Please wear long pants and sturdy\, closed-toe shoes. All personal protective equipment and cleaning supplies are provided. \n💰 Donations are always welcome! \n📝 Please RSVP each time you plan to attend. Thank you for your support! \n📨 Questions: lee.h@urbancompassionproject.org
URL:https://urbancompassionproject.org/event/ucpxhieroday/
LOCATION:24th & Wood\, 1747 24th St\, Oakland\, CA\, 94607\, United States
CATEGORIES:Community Cleanups,Community Event
END:VEVENT
BEGIN:VEVENT
DTSTART;TZID=America/Los_Angeles:20250920T090000
DTEND;TZID=America/Los_Angeles:20250920T120000
DTSTAMP:20260423T152518
CREATED:20250909T062615Z
LAST-MODIFIED:20250916T222551Z
UID:16891-1758358800-1758369600@urbancompassionproject.org
SUMMARY:Saturday Cleanup [9/20]
DESCRIPTION:📍Location: 4th St. & Fallon St. \n🌴We’ll be in Oakland\, near Wag Hotel\, for a cleanup from 9a-12p. Come on out and have a fun day getting dirty with us\, making friends\, and cleaning our streets. \n🌻We approach this with compassion and kindness\, and build bridges between volunteers and our unhoused community. All are welcome (ages 16+). Please wear long pants and sturdy\, closed-toe shoes. All personal protective equipment and cleaning supplies are provided. \n💰Donations are always welcome! \n📝Please RSVP each time you plan to attend. Thank you for your support! \n📨Questions: lee.h@urbancompassionproject.org \n\n	Notice: JavaScript is required for this content.
URL:https://urbancompassionproject.org/event/9-20-25-cleanup/
LOCATION:CA
CATEGORIES:Community Cleanups,Community Event
ORGANIZER;CN="Urban Compassion Project":MAILTO:lee.h@urbancompassionproject.org
END:VEVENT
END:VCALENDAR