BEGIN:VCALENDAR
VERSION:2.0
PRODID:-//Urban compassion project - ECPv6.15.20//NONSGML v1.0//EN
CALSCALE:GREGORIAN
METHOD:PUBLISH
X-WR-CALNAME:Urban compassion project
X-ORIGINAL-URL:https://urbancompassionproject.org
X-WR-CALDESC:Events for Urban compassion project
REFRESH-INTERVAL;VALUE=DURATION:PT1H
X-Robots-Tag:noindex
X-PUBLISHED-TTL:PT1H
BEGIN:VTIMEZONE
TZID:America/Los_Angeles
BEGIN:DAYLIGHT
TZOFFSETFROM:-0800
TZOFFSETTO:-0700
TZNAME:PDT
DTSTART:20250309T100000
END:DAYLIGHT
BEGIN:STANDARD
TZOFFSETFROM:-0700
TZOFFSETTO:-0800
TZNAME:PST
DTSTART:20251102T090000
END:STANDARD
BEGIN:DAYLIGHT
TZOFFSETFROM:-0800
TZOFFSETTO:-0700
TZNAME:PDT
DTSTART:20260308T100000
END:DAYLIGHT
BEGIN:STANDARD
TZOFFSETFROM:-0700
TZOFFSETTO:-0800
TZNAME:PST
DTSTART:20261101T090000
END:STANDARD
BEGIN:DAYLIGHT
TZOFFSETFROM:-0800
TZOFFSETTO:-0700
TZNAME:PDT
DTSTART:20270314T100000
END:DAYLIGHT
BEGIN:STANDARD
TZOFFSETFROM:-0700
TZOFFSETTO:-0800
TZNAME:PST
DTSTART:20271107T090000
END:STANDARD
END:VTIMEZONE
BEGIN:VEVENT
DTSTART;TZID=America/Los_Angeles:20260325T120000
DTEND;TZID=America/Los_Angeles:20260325T150000
DTSTAMP:20260422T154811
CREATED:20260320T020026Z
LAST-MODIFIED:20260324T043502Z
UID:19245-1774440000-1774450800@urbancompassionproject.org
SUMMARY:Wednesday Cleanup [3/25]
DESCRIPTION:📍Location: 5th & Franklin \n🌴We’ll be in Oakland on March 25th from 12-3p for our third Wednesday cleanup of 2026! Come on out and have a fun day getting dirty with us\, making friends\, and cleaning our streets. \n🌻We approach this with compassion and kindness\, and build bridges between volunteers and our unhoused community. All are welcome (ages 16+). All personal protective equipment and cleaning supplies are provided. Please wear long pants and sturdy\, closed-toe shoes. We’re out rain or shine so be sure to wear weather appropriate clothing! \n💰Donations are always welcome! \n📝Please RSVP each time you plan to attend. Thank you for your support! \n📨Questions: lee.h@urbancompassionproject.org \n\n	Notice: JavaScript is required for this content.
URL:https://urbancompassionproject.org/event/3-25-26-cleanup/
LOCATION:5th & Franklin\, 385 5th St\, Oakland\, CA\, 94607\, United States
CATEGORIES:Community Cleanups
ORGANIZER;CN="Urban Compassion Project":MAILTO:lee.h@urbancompassionproject.org
END:VEVENT
BEGIN:VEVENT
DTSTART;TZID=America/Los_Angeles:20260328T090000
DTEND;TZID=America/Los_Angeles:20260328T120000
DTSTAMP:20260422T154811
CREATED:20260313T213056Z
LAST-MODIFIED:20260328T003335Z
UID:19190-1774688400-1774699200@urbancompassionproject.org
SUMMARY:Saturday Cleanup [3/28]
DESCRIPTION:📍Location: 24th & Wood \n🌴We’ll be in West Oakland on March 28th from 9a-12p! Come on out and have a fun day getting dirty with us\, making friends\, and cleaning our streets. \n🌻We approach this with compassion and kindness\, and build bridges between volunteers and our unhoused community. All are welcome (ages 16+). All personal protective equipment and cleaning supplies are provided. Please wear long pants and sturdy\, closed-toe shoes. We’re out rain or shine so be sure to wear weather appropriate clothing! \n💰Donations are always welcome! \n📝Please RSVP each time you plan to attend. Thank you for your support! \n📨Questions: lee.h@urbancompassionproject.org \n\n	Notice: JavaScript is required for this content.
URL:https://urbancompassionproject.org/event/3-28-26-cleanup/
LOCATION:24th & Wood\, 1747 24th St\, Oakland\, CA\, 94607\, United States
CATEGORIES:Community Cleanups
ORGANIZER;CN="Urban Compassion Project":MAILTO:lee.h@urbancompassionproject.org
END:VEVENT
BEGIN:VEVENT
DTSTART;TZID=America/Los_Angeles:20260404T090000
DTEND;TZID=America/Los_Angeles:20260404T120000
DTSTAMP:20260422T154811
CREATED:20260313T213213Z
LAST-MODIFIED:20260403T215225Z
UID:19192-1775293200-1775304000@urbancompassionproject.org
SUMMARY:Saturday Cleanup [4/4]
DESCRIPTION:📍Location: 36th & MLK\, across from Grove Shafter Park \n🌴We’ll be in Oakland on April 4th from 9a-12p! Come on out and have a fun day getting dirty with us\, making friends\, and cleaning our streets. \n🌻We approach this with compassion and kindness\, and build bridges between volunteers and our unhoused community. All are welcome (ages 16+). All personal protective equipment and cleaning supplies are provided. Please wear long pants and sturdy\, closed-toe shoes. We’re out rain or shine so be sure to wear weather appropriate clothing! \n💰Donations are always welcome! \n📝Please RSVP each time you plan to attend. Thank you for your support! \n📨Questions: lee.h@urbancompassionproject.org \n\n	Notice: JavaScript is required for this content.
URL:https://urbancompassionproject.org/event/4-4-26-cleanup/
LOCATION:36th & MLK\, Martin Luther King Jr Way & 36th St\, Oakland\, CA\, 94609\, United States
CATEGORIES:Community Cleanups
ORGANIZER;CN="Urban Compassion Project":MAILTO:lee.h@urbancompassionproject.org
END:VEVENT
BEGIN:VEVENT
DTSTART;TZID=America/Los_Angeles:20260411T090000
DTEND;TZID=America/Los_Angeles:20260411T120000
DTSTAMP:20260422T154811
CREATED:20260329T173118Z
LAST-MODIFIED:20260411T002310Z
UID:19318-1775898000-1775908800@urbancompassionproject.org
SUMMARY:Saturday Cleanup [4/11] - Registration Full
DESCRIPTION:Hi all! This cleanup will be small in scale so we’ve had to cap registration. Thank you for your interest and we hope to see you at our next one! \n📍Location: 24th & Campbell St. \n🌴We’ll be in Oakland on April 11th from 9a-12p! Come on out and have a fun day getting dirty with us\, making friends\, and cleaning our streets. \n🌻We approach this with compassion and kindness\, and build bridges between volunteers and our unhoused community. All are welcome (ages 16+). All personal protective equipment and cleaning supplies are provided. Please wear long pants and sturdy\, closed-toe shoes. We’re out rain or shine so be sure to wear weather appropriate clothing! \n💰Donations are always welcome! \n📝Please RSVP each time you plan to attend. Thank you for your support! \n📨Questions: lee.h@urbancompassionproject.org
URL:https://urbancompassionproject.org/event/4-11-26-cleanup/
LOCATION:24th & Campbell\, 2415 Campbell St\, Oakland\, CA\, 94607\, United States
CATEGORIES:Community Cleanups
ORGANIZER;CN="Urban Compassion Project":MAILTO:lee.h@urbancompassionproject.org
END:VEVENT
BEGIN:VEVENT
DTSTART;TZID=America/Los_Angeles:20260502T090000
DTEND;TZID=America/Los_Angeles:20260502T120000
DTSTAMP:20260422T154811
CREATED:20260420T034820Z
LAST-MODIFIED:20260420T034820Z
UID:19596-1777712400-1777723200@urbancompassionproject.org
SUMMARY:Saturday Cleanup [5/2]
DESCRIPTION:📍Location: TBD\, RSVP or check back for details \n🌴We’ll be in Oakland on May 2nd from 9a-12p! Come on out and have a fun day getting dirty with us\, making friends\, and cleaning our streets. \n🌻We approach this with compassion and kindness\, and build bridges between volunteers and our unhoused community. All are welcome (ages 16+). All personal protective equipment and cleaning supplies are provided. Please wear long pants and sturdy\, closed-toe shoes. We’re out rain or shine so be sure to wear weather appropriate clothing! \n💰Donations are always welcome! \n📝Please RSVP each time you plan to attend. Thank you for your support! \n📨Questions: lee.h@urbancompassionproject.org \n\n	Notice: JavaScript is required for this content.
URL:https://urbancompassionproject.org/event/5-2-26-cleanup/
LOCATION:CA
CATEGORIES:Community Cleanups
ORGANIZER;CN="Urban Compassion Project":MAILTO:lee.h@urbancompassionproject.org
END:VEVENT
BEGIN:VEVENT
DTSTART;TZID=America/Los_Angeles:20260509T090000
DTEND;TZID=America/Los_Angeles:20260509T120000
DTSTAMP:20260422T154811
CREATED:20260420T223724Z
LAST-MODIFIED:20260420T223737Z
UID:19607-1778317200-1778328000@urbancompassionproject.org
SUMMARY:Saturday Cleanup [5/9]
DESCRIPTION:📍Location: TBD\, RSVP or check back for details \n🌴We’ll be in Oakland on May 9th from 9a-12p! Come on out and have a fun day getting dirty with us\, making friends\, and cleaning our streets. \n🌻We approach this with compassion and kindness\, and build bridges between volunteers and our unhoused community. All are welcome (ages 16+). All personal protective equipment and cleaning supplies are provided. Please wear long pants and sturdy\, closed-toe shoes. We’re out rain or shine so be sure to wear weather appropriate clothing! \n💰Donations are always welcome! \n📝Please RSVP each time you plan to attend. Thank you for your support! \n📨Questions: lee.h@urbancompassionproject.org \n\n	Notice: JavaScript is required for this content.
URL:https://urbancompassionproject.org/event/5-9-26-cleanup/
LOCATION:CA
CATEGORIES:Community Cleanups
ORGANIZER;CN="Urban Compassion Project":MAILTO:lee.h@urbancompassionproject.org
END:VEVENT
BEGIN:VEVENT
DTSTART;TZID=America/Los_Angeles:20260516T090000
DTEND;TZID=America/Los_Angeles:20260516T120000
DTSTAMP:20260422T154811
CREATED:20260420T223902Z
LAST-MODIFIED:20260420T223902Z
UID:19610-1778922000-1778932800@urbancompassionproject.org
SUMMARY:Saturday Cleanup [5/16]
DESCRIPTION:📍Location: TBD\, RSVP or check back for details \n🌴We’ll be in Oakland on May 16th from 9a-12p! Come on out and have a fun day getting dirty with us\, making friends\, and cleaning our streets. \n🌻We approach this with compassion and kindness\, and build bridges between volunteers and our unhoused community. All are welcome (ages 16+). All personal protective equipment and cleaning supplies are provided. Please wear long pants and sturdy\, closed-toe shoes. We’re out rain or shine so be sure to wear weather appropriate clothing! \n💰Donations are always welcome! \n📝Please RSVP each time you plan to attend. Thank you for your support! \n📨Questions: lee.h@urbancompassionproject.org \n\n	Notice: JavaScript is required for this content.
URL:https://urbancompassionproject.org/event/5-16-26-cleanup/
LOCATION:CA
CATEGORIES:Community Cleanups
ORGANIZER;CN="Urban Compassion Project":MAILTO:lee.h@urbancompassionproject.org
END:VEVENT
BEGIN:VEVENT
DTSTART;TZID=America/Los_Angeles:20260523T090000
DTEND;TZID=America/Los_Angeles:20260523T120000
DTSTAMP:20260422T154811
CREATED:20260420T224013Z
LAST-MODIFIED:20260420T224013Z
UID:19612-1779526800-1779537600@urbancompassionproject.org
SUMMARY:Saturday Cleanup [5/23]
DESCRIPTION:📍Location: TBD\, RSVP or check back for details \n🌴We’ll be in Oakland on May 23rd from 9a-12p! Come on out and have a fun day getting dirty with us\, making friends\, and cleaning our streets. \n🌻We approach this with compassion and kindness\, and build bridges between volunteers and our unhoused community. All are welcome (ages 16+). All personal protective equipment and cleaning supplies are provided. Please wear long pants and sturdy\, closed-toe shoes. We’re out rain or shine so be sure to wear weather appropriate clothing! \n💰Donations are always welcome! \n📝Please RSVP each time you plan to attend. Thank you for your support! \n📨Questions: lee.h@urbancompassionproject.org \n\n	Notice: JavaScript is required for this content.
URL:https://urbancompassionproject.org/event/5-23-26-cleanup/
LOCATION:CA
CATEGORIES:Community Cleanups
ORGANIZER;CN="Urban Compassion Project":MAILTO:lee.h@urbancompassionproject.org
END:VEVENT
BEGIN:VEVENT
DTSTART;TZID=America/Los_Angeles:20260530T090000
DTEND;TZID=America/Los_Angeles:20260530T120000
DTSTAMP:20260422T154811
CREATED:20260420T224148Z
LAST-MODIFIED:20260420T224148Z
UID:19614-1780131600-1780142400@urbancompassionproject.org
SUMMARY:Saturday Cleanup [5/30]
DESCRIPTION:📍Location: TBD\, RSVP or check back for details \n🌴We’ll be in Oakland on May 30th from 9a-12p! Come on out and have a fun day getting dirty with us\, making friends\, and cleaning our streets. \n🌻We approach this with compassion and kindness\, and build bridges between volunteers and our unhoused community. All are welcome (ages 16+). All personal protective equipment and cleaning supplies are provided. Please wear long pants and sturdy\, closed-toe shoes. We’re out rain or shine so be sure to wear weather appropriate clothing! \n💰Donations are always welcome! \n📝Please RSVP each time you plan to attend. Thank you for your support! \n📨Questions: lee.h@urbancompassionproject.org \n\n	Notice: JavaScript is required for this content.
URL:https://urbancompassionproject.org/event/5-30-26-cleanup/
LOCATION:CA
CATEGORIES:Community Cleanups
ORGANIZER;CN="Urban Compassion Project":MAILTO:lee.h@urbancompassionproject.org
END:VEVENT
END:VCALENDAR